BEGIN:VCALENDAR
VERSION:2.0
PRODID:-//Pilates 1901 - ECPv4.1.2//NONSGML v1.0//EN
CALSCALE:GREGORIAN
METHOD:PUBLISH
X-WR-CALNAME:Pilates 1901
X-ORIGINAL-URL:http://mail.pilates1901.com
X-WR-CALDESC:Events for Pilates 1901
BEGIN:VEVENT
DTSTART;TZID=America/Chicago:20151031T120000
DTEND;TZID=America/Chicago:20151031T133000
DTSTAMP:20260420T030347
CREATED:20151004T130238
LAST-MODIFIED:20151018T184804
UID:17485-1446292800-1446298200@mail.pilates1901.com
SUMMARY:Trimester 3 Kick off with Jeremy Collins
DESCRIPTION:Join world climber\, artist\, author\, film maker\, husband and father\, Jeremy Collins for an unforgettable workshop on living life beyond fear and perceived limitations!   Wildly talented and funny\, Jeremy's vision and passion for life are inspiring.\n\nSpecial thanks to his wife\, Tricia\, for getting Jeremy to 1901 to present!  Yeah!\n\nTeam Meetings follow the workshop.
URL:http://mail.pilates1901.com/event/trimester-3-kick-off-with-jeremy-collins/
LOCATION:1901 W 43rd Ave\, Kansas City\, KS\, 66103\, United States
ATTACH;FMTTYPE=image/jpeg:http://mail.pilates1901.com/wp-content/uploads/2015/10/jeremy-artist-drawn.jpg
END:VEVENT
END:VCALENDAR