BEGIN:VCALENDAR
VERSION:2.0
PRODID:-//Pilates 1901 - ECPv4.1.2//NONSGML v1.0//EN
CALSCALE:GREGORIAN
METHOD:PUBLISH
X-WR-CALNAME:Pilates 1901
X-ORIGINAL-URL:http://mail.pilates1901.com
X-WR-CALDESC:Events for Pilates 1901
BEGIN:VEVENT
DTSTART;TZID=America/Chicago:20150418T133000
DTEND;TZID=America/Chicago:20150418T150000
DTSTAMP:20260420T062625
CREATED:20150329T162501
LAST-MODIFIED:20150329T162501
UID:16470-1429363800-1429369200@mail.pilates1901.com
SUMMARY:Thigh High Jeans is Coming to KC
DESCRIPTION:Come to our T School Graduation Party and stick around the parking lot.  The Thigh High Jeans trailer is traveling from it's home town of Memphis Tennessee to the parking lot at Pilates 1901 to help raise money for charity!\n\nDonate your jeans.  Buy a custom pair of jeans.  Raise money for charity.  Do good.  Have fun!\n\nCome on.... does it really get any better than that?
URL:http://mail.pilates1901.com/event/thigh-high-jeans-is-coming-to-kc/
LOCATION:1901 W 43rd Ave\, Kansas City\, KS\, 66103\, United States
ATTACH;FMTTYPE=image/jpeg:http://mail.pilates1901.com/wp-content/uploads/2015/03/thigh-high.jpg
END:VEVENT
END:VCALENDAR