BEGIN:VCALENDAR
VERSION:2.0
PRODID:-//Pilates 1901 - ECPv4.1.2//NONSGML v1.0//EN
CALSCALE:GREGORIAN
METHOD:PUBLISH
X-WR-CALNAME:Pilates 1901
X-ORIGINAL-URL:http://mail.pilates1901.com
X-WR-CALDESC:Events for Pilates 1901
BEGIN:VEVENT
DTSTART;TZID=America/Chicago:20160313T110000
DTEND;TZID=America/Chicago:20160313T120000
DTSTAMP:20260419T233135
CREATED:20160225T115738
LAST-MODIFIED:20160225T115738
UID:17918-1457866800-1457870400@mail.pilates1901.com
SUMMARY:Target Training with Liz at Athleta on the Plaza
DESCRIPTION:Join your friends from Pilates 1901 and Athleta all month long as we do an AWESOME series of FREE SUNDAY Morning Workouts!\n\nLiz Trevino continues the series with her amazing Target Training Pilates based workout guaranteed to challenge you!\n\nShare the love by asking friends and family to attend too to show them why you love working out at Pilates 1901!
URL:http://mail.pilates1901.com/event/target-training-with-liz-at-athleta-on-the-plaza/
LOCATION: 429 W 47th Street\, Kansas City\, MO\, 64112\, United States
ATTACH;FMTTYPE=image/jpeg:http://mail.pilates1901.com/wp-content/uploads/2016/02/Liz-Target-Training-March-13th-.jpg
END:VEVENT
END:VCALENDAR