BEGIN:VCALENDAR
VERSION:2.0
PRODID:-//Pilates 1901 - ECPv4.1.2//NONSGML v1.0//EN
CALSCALE:GREGORIAN
METHOD:PUBLISH
X-WR-CALNAME:Pilates 1901
X-ORIGINAL-URL:http://mail.pilates1901.com
X-WR-CALDESC:Events for Pilates 1901
BEGIN:VEVENT
DTSTART;TZID=America/Chicago:20150411T120000
DTEND;TZID=America/Chicago:20150411T130000
DTSTAMP:20260420T062529
CREATED:20150108T105815
LAST-MODIFIED:20150329T155346
UID:16018-1428753600-1428757200@mail.pilates1901.com
SUMMARY:T School: Putting it all together for Life
DESCRIPTION:Join Tina Sprinkle and Dr Alicia Johnson as they discuss your progress and success in your 12 week session of T School AND how to keep your healthy choices and rituals in place to continue your healthy changes.\n\nThis is in preparation for our T School Graduation party the following weekend! Wahooo!\n\nFree for T Schoolers.\n\n$35 for guests.  Click here to purchase this workshop.\n\n \n\n \n\n 
URL:http://mail.pilates1901.com/event/t-school-putting-together-life/
LOCATION:1901 W 43rd Ave\, Kansas City\, KS\, 66103\, United States
ATTACH;FMTTYPE=image/jpeg:http://mail.pilates1901.com/wp-content/uploads/2015/01/T-School-Workshop-April-11.jpg
END:VEVENT
END:VCALENDAR