BEGIN:VCALENDAR
VERSION:2.0
PRODID:-//Pilates 1901 - ECPv4.1.2//NONSGML v1.0//EN
CALSCALE:GREGORIAN
METHOD:PUBLISH
X-WR-CALNAME:Pilates 1901
X-ORIGINAL-URL:http://mail.pilates1901.com
X-WR-CALDESC:Events for Pilates 1901
BEGIN:VEVENT
DTSTART;TZID=America/Chicago:20140927T113000
DTEND;TZID=America/Chicago:20140927T123000
DTSTAMP:20260420T112249
CREATED:20140801T230330
LAST-MODIFIED:20140802T020158
UID:14671-1411817400-1411821000@mail.pilates1901.com
SUMMARY:T School Nutrition Workshop
DESCRIPTION:Join Tina Sprinkle and Dr Jason Fechter as they delve into the macro-nutrients that can determine your health or illness.
URL:http://mail.pilates1901.com/event/t-school-nutrition-workshop/
LOCATION:1901 W 43rd Ave\, Kansas City\, KS\, 66103\, United States
ATTACH;FMTTYPE=image/jpeg:http://mail.pilates1901.com/wp-content/uploads/2014/08/surviving-a-toxic-society-nutrition-101.jpg
END:VEVENT
END:VCALENDAR