BEGIN:VCALENDAR
VERSION:2.0
PRODID:-//Pilates 1901 - ECPv4.1.2//NONSGML v1.0//EN
CALSCALE:GREGORIAN
METHOD:PUBLISH
X-WR-CALNAME:Pilates 1901
X-ORIGINAL-URL:http://mail.pilates1901.com
X-WR-CALDESC:Events for Pilates 1901
BEGIN:VEVENT
DTSTART;TZID=America/Chicago:20140920T113000
DTEND;TZID=America/Chicago:20140920T140000
DTSTAMP:20260420T112248
CREATED:20140617T000802
LAST-MODIFIED:20140617T000802
UID:13987-1411212600-1411221600@mail.pilates1901.com
SUMMARY:T School Enrollment Workshop
DESCRIPTION:
URL:http://mail.pilates1901.com/event/t-school-enrollment-workshop/
LOCATION:1901 W 43rd Ave\, Kansas City\, KS\, 66103\, United States
ATTACH;FMTTYPE=image/jpeg:http://mail.pilates1901.com/wp-content/uploads/2014/06/T-school-assessment-e1402945662755.jpg
END:VEVENT
END:VCALENDAR