BEGIN:VCALENDAR
VERSION:2.0
PRODID:-//Pilates 1901 - ECPv4.1.2//NONSGML v1.0//EN
CALSCALE:GREGORIAN
METHOD:PUBLISH
X-WR-CALNAME:Pilates 1901
X-ORIGINAL-URL:http://mail.pilates1901.com
X-WR-CALDESC:Events for Pilates 1901
BEGIN:VEVENT
DTSTART;TZID=America/Chicago:20140608T170000
DTEND;TZID=America/Chicago:20140608T220000
DTSTAMP:20260420T130900
CREATED:20140616T233401
LAST-MODIFIED:20140616T233700
UID:13970-1402246800-1402264800@mail.pilates1901.com
SUMMARY:Sunday Fun Day
DESCRIPTION:Join us for games\, food\, and fun! 
URL:http://mail.pilates1901.com/event/sunday-fun-day/
LOCATION:7900 Renner Road\, Shawnee\, KS\, 66219\, United States
ATTACH;FMTTYPE=image/jpeg:http://mail.pilates1901.com/wp-content/uploads/2014/06/SMPark-e1402943806861.jpg
END:VEVENT
END:VCALENDAR