BEGIN:VCALENDAR
VERSION:2.0
PRODID:-//Pilates 1901 - ECPv4.1.2//NONSGML v1.0//EN
CALSCALE:GREGORIAN
METHOD:PUBLISH
X-WR-CALNAME:Pilates 1901
X-ORIGINAL-URL:http://mail.pilates1901.com
X-WR-CALDESC:Events for Pilates 1901
BEGIN:VEVENT
DTSTART;TZID=America/Chicago:20150408T190000
DTEND;TZID=America/Chicago:20150408T203000
DTSTAMP:20260420T080039
CREATED:20150108T105517
LAST-MODIFIED:20150108T111943
UID:16017-1428519600-1428525000@mail.pilates1901.com
SUMMARY:Spring Up Paleo Cooking Class
DESCRIPTION:Join Evolve Paleo Chef as he treats you to a bountiful cooking soiree featuring the season fruits and vegetables of Spring. Eating fresh and healthy will never seem so simple and easy!\n\nCome hungry as sample always about at the Evolve Paleo Kitchen!\n\nFree for T School clients.\n\n$35 for guests.  Click here to purchase this workshop.
URL:http://mail.pilates1901.com/event/spring-paleo-cooking-class/
LOCATION:8428 Melrose Drive\, Lenexa\, KS\, 66214\, United States
ATTACH;FMTTYPE=image/jpeg:http://mail.pilates1901.com/wp-content/uploads/2014/08/caleb.jpg
END:VEVENT
END:VCALENDAR