BEGIN:VCALENDAR
VERSION:2.0
PRODID:-//Pilates 1901 - ECPv4.1.2//NONSGML v1.0//EN
CALSCALE:GREGORIAN
METHOD:PUBLISH
X-WR-CALNAME:Pilates 1901
X-ORIGINAL-URL:http://mail.pilates1901.com
X-WR-CALDESC:Events for Pilates 1901
BEGIN:VEVENT
DTSTART;TZID=America/Chicago:20140628T113000
DTEND;TZID=America/Chicago:20140628T123000
DTSTAMP:20260420T144540
CREATED:20140616T233950
LAST-MODIFIED:20140616T233950
UID:13974-1403955000-1403958600@mail.pilates1901.com
SUMMARY:Refine & Define Workshop
DESCRIPTION:Refine the bottom line with Tina and Lisa! 
URL:http://mail.pilates1901.com/event/refine-define-workshop/
LOCATION:1901 W 43rd Ave\, Kansas City\, KS\, 66103\, United States
ATTACH;FMTTYPE=image/jpeg:http://mail.pilates1901.com/wp-content/uploads/2012/12/2102-tina-cbb-feb-271-e1402943967757.jpg
END:VEVENT
END:VCALENDAR