BEGIN:VCALENDAR
VERSION:2.0
PRODID:-//Pilates 1901 - ECPv4.1.2//NONSGML v1.0//EN
CALSCALE:GREGORIAN
METHOD:PUBLISH
X-WR-CALNAME:Pilates 1901
X-ORIGINAL-URL:http://mail.pilates1901.com
X-WR-CALDESC:Events for Pilates 1901
BEGIN:VEVENT
DTSTART;TZID=America/Chicago:20140726T113000
DTEND;TZID=America/Chicago:20140726T123000
DTSTAMP:20260420T131044
CREATED:20140616T235243
LAST-MODIFIED:20140616T235243
UID:13982-1406374200-1406377800@mail.pilates1901.com
SUMMARY:Refine and Define Workshop
DESCRIPTION:Posture & Balance with Dr. Ladd Carlston and Tina Sprinkle
URL:http://mail.pilates1901.com/event/refine-and-define-workshop/
LOCATION:1901 W 43rd Ave\, Kansas City\, KS\, 66103\, United States
ATTACH;FMTTYPE=image/jpeg:http://mail.pilates1901.com/wp-content/uploads/2012/07/scott-and-tina-caddy-e1402944744105.jpg
END:VEVENT
END:VCALENDAR