BEGIN:VCALENDAR
VERSION:2.0
PRODID:-//Pilates 1901 - ECPv4.1.2//NONSGML v1.0//EN
CALSCALE:GREGORIAN
METHOD:PUBLISH
X-WR-CALNAME:Pilates 1901
X-ORIGINAL-URL:http://mail.pilates1901.com
X-WR-CALDESC:Events for Pilates 1901
BEGIN:VEVENT
DTSTART;TZID=America/Chicago:20140823T113000
DTEND;TZID=America/Chicago:20140823T123000
DTSTAMP:20260420T130732
CREATED:20140617T000105
LAST-MODIFIED:20140809T172529
UID:13985-1408793400-1408797000@mail.pilates1901.com
SUMMARY:Refine and Define Workshop
DESCRIPTION:Mobility training with Master Trainer Lisa Looy
URL:http://mail.pilates1901.com/event/refine-and-define-workshop-2/
LOCATION:1901 W 43rd Ave\, Kansas City\, KS\, 66103\, United States
ATTACH;FMTTYPE=image/jpeg:http://mail.pilates1901.com/wp-content/uploads/2014/05/lisa.jpg
END:VEVENT
END:VCALENDAR