BEGIN:VCALENDAR
VERSION:2.0
PRODID:-//Pilates 1901 - ECPv4.1.2//NONSGML v1.0//EN
CALSCALE:GREGORIAN
METHOD:PUBLISH
X-WR-CALNAME:Pilates 1901
X-ORIGINAL-URL:http://mail.pilates1901.com
X-WR-CALDESC:Events for Pilates 1901
BEGIN:VEVENT
DTSTART;TZID=America/Chicago:20141206T113000
DTEND;TZID=America/Chicago:20141206T122000
DTSTAMP:20260420T094713
CREATED:20140803T174218
LAST-MODIFIED:20141116T215100
UID:15039-1417865400-1417868400@mail.pilates1901.com
SUMMARY:Pop Up Pilates Flow Workout
DESCRIPTION:Join the incomparable Becca Baxter as she leads you through a mindfully delicious Pilates Flow workout.  Free for T Schoolers!\n\n$25 for Guests. 
URL:http://mail.pilates1901.com/event/pop-pilates-flow-workout/
LOCATION:1901 W 43rd Ave\, Kansas City\, KS\, 66103\, United States
ATTACH;FMTTYPE=image/jpeg:http://mail.pilates1901.com/wp-content/uploads/2014/08/Pilates-flow-with-becca1.jpg
END:VEVENT
END:VCALENDAR