BEGIN:VCALENDAR
VERSION:2.0
PRODID:-//Pilates 1901 - ECPv4.1.2//NONSGML v1.0//EN
CALSCALE:GREGORIAN
METHOD:PUBLISH
X-WR-CALNAME:Pilates 1901
X-ORIGINAL-URL:http://mail.pilates1901.com
X-WR-CALDESC:Events for Pilates 1901
BEGIN:VEVENT
DTSTART;TZID=America/Chicago:20150208T180000
DTEND;TZID=America/Chicago:20150208T193000
DTSTAMP:20260420T080055
CREATED:20150108T102621
LAST-MODIFIED:20150108T111656
UID:16006-1423418400-1423423800@mail.pilates1901.com
SUMMARY:Paleo in the Kitchen with Caleb Summers
DESCRIPTION:Join the Chefs from our friends at Evolve as they expand your PALEO WORLD with this cooking class guaranteed to give you great ideas for prepping healthy and delicious meals simply and easily!\n\nAnd come hungry- we get to taste all the wonderful concoctions they are showing us how to cook!\n\nFREE for T School participants.\n\n$35 for guests.  Click here to purchase this workshop.\n
URL:http://mail.pilates1901.com/event/paleo-kitchen-caleb-summers/
LOCATION:8428 Melrose Drive\, Lenexa\, KS\, 66214\, United States
ATTACH;FMTTYPE=image/jpeg:http://mail.pilates1901.com/wp-content/uploads/2014/08/caleb.jpg
END:VEVENT
END:VCALENDAR