BEGIN:VCALENDAR
VERSION:2.0
PRODID:-//Pilates 1901 - ECPv4.1.2//NONSGML v1.0//EN
CALSCALE:GREGORIAN
METHOD:PUBLISH
X-WR-CALNAME:Pilates 1901
X-ORIGINAL-URL:http://mail.pilates1901.com
X-WR-CALDESC:Events for Pilates 1901
BEGIN:VEVENT
DTSTART;TZID=America/Chicago:20150131T120000
DTEND;TZID=America/Chicago:20150131T130000
DTSTAMP:20260420T080202
CREATED:20141223T101231
LAST-MODIFIED:20150108T111745
UID:15746-1422705600-1422709200@mail.pilates1901.com
SUMMARY:Nutrition Science for Effective Fat Loss
DESCRIPTION:Join Dietitian and author Joan O'Keefe as she explains what works and what doesn't work for healthy fat loss\, nutrition and supplementation.\n\nThis workshop is part of our 12 week T School program but guests may attend for a $35 charge.\n\nClick here to purchase this workshop.\n\n 
URL:http://mail.pilates1901.com/event/nutrition-science-effective-fat-loss/
LOCATION:1901 W 43rd Ave\, Kansas City\, KS\, 66103\, United States
ATTACH;FMTTYPE=image/jpeg:http://mail.pilates1901.com/wp-content/uploads/2014/12/Joan-Okeefe-Nutriton-Science-for-Fat-Loss.jpg
END:VEVENT
END:VCALENDAR