BEGIN:VCALENDAR
VERSION:2.0
PRODID:-//Pilates 1901 - ECPv4.1.2//NONSGML v1.0//EN
CALSCALE:GREGORIAN
METHOD:PUBLISH
X-WR-CALNAME:Pilates 1901
X-ORIGINAL-URL:http://mail.pilates1901.com
X-WR-CALDESC:Events for Pilates 1901
BEGIN:VEVENT
DTSTART;TZID=America/Chicago:20160118T183000
DTEND;TZID=America/Chicago:20160118T193000
DTSTAMP:20260420T024254
CREATED:20160117T173954
LAST-MODIFIED:20160117T173954
UID:17822-1453141800-1453145400@mail.pilates1901.com
SUMMARY:Monday Night Pow Wow with Tina
DESCRIPTION:We've got so much going on at the studio this week\, I thought it'd be a good idea to host a POW WOW to answer any questions you all may have about our new class schedule\, Meditation 101 Workshop series\, Getting Started with T School\, CLEAN 21 Detox and more!\n\nI'm here for you!  Can't make it?  Email me at tina@pilates1901.com NOW!
URL:http://mail.pilates1901.com/event/monday-night-pow-wow-with-tina/
LOCATION:1901 W 43rd Ave\, Kansas City\, KS\, 66103\, United States
ATTACH;FMTTYPE=image/jpeg:http://mail.pilates1901.com/wp-content/uploads/2016/01/Pow-Wow-Sunday.jpg
END:VEVENT
END:VCALENDAR