BEGIN:VCALENDAR
VERSION:2.0
PRODID:-//Pilates 1901 - ECPv4.1.2//NONSGML v1.0//EN
CALSCALE:GREGORIAN
METHOD:PUBLISH
X-WR-CALNAME:Pilates 1901
X-ORIGINAL-URL:http://mail.pilates1901.com
X-WR-CALDESC:Events for Pilates 1901
BEGIN:VEVENT
DTSTART;TZID=America/Chicago:20160617T173000
DTEND;TZID=America/Chicago:20160617T190000
DTSTAMP:20260419T232405
CREATED:20160106T190547
LAST-MODIFIED:20160611T163853
UID:17770-1466184600-1466190000@mail.pilates1901.com
SUMMARY:Love Never Dies Workshop with Lisa Kolias Cooper
DESCRIPTION:The “Love Never Dies” workshop is based on Lisa Kolias Cooper's amazing book\, You Are My Voice\, How Love’s Voice Never Dies\, an inspirational memoir about the spiritual awakenings about life beyond the physical world that Lisa experienced after her mother’s death. \n\nIn this one of a kind workshop\, Lisa helps people discover that love never dies. \n\nBy sharing her personal examples of after-death communication\, she articulates a powerful message of hope and healing. \n\nAdditionally\, Lisa provides specific tips for receiving and remembering dream visits and techniques for opening hearts to recognize the signs given to us from our loved ones..   Your $25 registration includes your copy of the book!\n\nClick here to sign reserve now!
URL:http://mail.pilates1901.com/event/love-never-dies-workshop-with-lisa-kolias-cooper/
LOCATION:1901 W 43rd Ave\, Kansas City\, KS\, 66103\, United States
ATTACH;FMTTYPE=image/jpeg:http://mail.pilates1901.com/wp-content/uploads/2016/01/Slide8.jpg
END:VEVENT
END:VCALENDAR