BEGIN:VCALENDAR
VERSION:2.0
PRODID:-//Pilates 1901 - ECPv4.1.2//NONSGML v1.0//EN
CALSCALE:GREGORIAN
METHOD:PUBLISH
X-WR-CALNAME:Pilates 1901
X-ORIGINAL-URL:http://mail.pilates1901.com
X-WR-CALDESC:Events for Pilates 1901
BEGIN:VEVENT
DTSTART;TZID=America/Chicago:20150725T113000
DTEND;TZID=America/Chicago:20150725T123000
DTSTAMP:20260420T044204
CREATED:20150412T191349
LAST-MODIFIED:20150412T191349
UID:16570-1437823800-1437827400@mail.pilates1901.com
SUMMARY:Living Your Life Unleashed May be Easier Than You Dreamed
DESCRIPTION:Join Pilates 1901 T School Coach Tamie Rising as she shows you how to celebrate your potential by learning to live unleashed!\n\nThis workshop\, sponsored by Pilates 1901’s premier fat loss program\, T School\, is FREE to everyone and their guests but we would like to plan ahead for handouts and seating\, so please click here to reserve your spot in advance.\n\nDon’t miss this inspiring event and SAVE THE DATE NOW!
URL:http://mail.pilates1901.com/event/living-your-life-unleashed-may-be-easier-than-you-dreamed/
LOCATION:1901 W 43rd Ave\, Kansas City\, KS\, 66103\, United States
ATTACH;FMTTYPE=image/jpeg:http://mail.pilates1901.com/wp-content/uploads/2015/04/Living-unleashed-Workshop-with-Tamie-Rising.jpg
END:VEVENT
END:VCALENDAR