BEGIN:VCALENDAR
VERSION:2.0
PRODID:-//Pilates 1901 - ECPv4.1.2//NONSGML v1.0//EN
CALSCALE:GREGORIAN
METHOD:PUBLISH
X-WR-CALNAME:Pilates 1901
X-ORIGINAL-URL:http://mail.pilates1901.com
X-WR-CALDESC:Events for Pilates 1901
BEGIN:VEVENT
DTSTART;TZID=America/Chicago:20160123T100000
DTEND;TZID=America/Chicago:20160123T120000
DTSTAMP:20260420T010316
CREATED:20151105T171057
LAST-MODIFIED:20160120T121057
UID:17547-1453543200-1453550400@mail.pilates1901.com
SUMMARY:Keeping it Real with Your Assessment Updates
DESCRIPTION:Join the party and keep it real with our monthly body composition assessments.   Just reserve like you would any class on the schedule.  If you are not a current T Schooler\, the price is just $25 and the app is free!\n\n\tTo get started\, click here to upload our Pilates 1901 Fit App.\n\tCreate your personal assessment account.\n\tYour $25 registration gives you access to invaluable stats to help you keep your health and fitness goals real!\n\nYour private assessment includes:\n\n\tBody composition testing\n\tGirth measurements\n\tBody Mass Index\n\tBefore and After Pics\n\tProgress charts and graphs\n\tFull explanation of what your stats mean\n\nBecause your goals and progress aren't real unless they're measurable!\n\nClick here to purchase and reserve your spot today!\n\n 
URL:http://mail.pilates1901.com/event/keeping-it-real-with-your-assessment-updates/
LOCATION:1901 W 43rd Ave\, Kansas City\, KS\, 66103\, United States
ATTACH;FMTTYPE=image/jpeg:http://mail.pilates1901.com/wp-content/uploads/2015/11/monthly-assessment-update-pic-for-events.jpg
END:VEVENT
END:VCALENDAR