BEGIN:VCALENDAR
VERSION:2.0
PRODID:-//Pilates 1901 - ECPv4.1.2//NONSGML v1.0//EN
CALSCALE:GREGORIAN
METHOD:PUBLISH
X-WR-CALNAME:Pilates 1901
X-ORIGINAL-URL:http://mail.pilates1901.com
X-WR-CALDESC:Events for Pilates 1901
BEGIN:VEVENT
DTSTART;TZID=America/Chicago:20160806T100000
DTEND;TZID=America/Chicago:20160806T120000
DTSTAMP:20260419T181857
CREATED:20160426T121345
LAST-MODIFIED:20160725T143759
UID:18090-1470477600-1470484800@mail.pilates1901.com
SUMMARY:Keep it Real with Your Monthly Assessment Update
DESCRIPTION:Join the party and keep it real with our monthly body composition assessments.   Just reserve like you would any class on the schedule.  If you are not a current T Schooler\, the price is just $25 and the app is free!\n\n \tTo get started\, click here to upload our Pilates 1901 Fit App.\n \tCreate your personal assessment account.\n \tTo schedule your private assessment simply email us at info@pilates1901.com and we’ll work around your schedule.\n \tYour $25 registration gives you access to invaluable stats to help you keep your health and fitness goals real!\n\nYour private assessment includes:\n\n \tBody composition testing\n \tGirth measurements\n \tBody Mass Index\n \tBefore and After Pics\n \tProgress charts and graphs\n \tFull explanation of what your stats mean\n\nBecause your goals and progress aren’t real unless they’re measurable!   Register today!
URL:http://mail.pilates1901.com/event/keep-real-monthly-assessment-update/
LOCATION:1901 W 43rd Ave\, Kansas City\, KS\, 66103\, United States
ATTACH;FMTTYPE=image/jpeg:http://mail.pilates1901.com/wp-content/uploads/2015/11/monthly-assessment-update-pic-for-events.jpg
END:VEVENT
END:VCALENDAR