BEGIN:VCALENDAR
VERSION:2.0
PRODID:-//Pilates 1901 - ECPv4.1.2//NONSGML v1.0//EN
CALSCALE:GREGORIAN
METHOD:PUBLISH
X-WR-CALNAME:Pilates 1901
X-ORIGINAL-URL:http://mail.pilates1901.com
X-WR-CALDESC:Events for Pilates 1901
BEGIN:VEVENT
DTSTART;TZID=America/Chicago:20150628T093000
DTEND;TZID=America/Chicago:20150628T103000
DTSTAMP:20260420T044327
CREATED:20150412T190924
LAST-MODIFIED:20150627T172120
UID:16567-1435483800-1435487400@mail.pilates1901.com
SUMMARY:Join us for Pilates in the Park- at the Nelson
DESCRIPTION:Join your friends from Pilates 1901 as we celebrate Pilates in the park at the Nelson Atkins Museum on Sunday\, June 28th.\n\nThe class\, sponsored by Pilates 1901's premier fat loss program\, T School\, is FREE to everyone and their guests!  All we ask is that you bring your own mat and sunscreen!\n\nDon't miss this fun event and SAVE THE DATE NOW!
URL:http://mail.pilates1901.com/event/join-us-for-pilates-in-the-park-at-the-nelson/
LOCATION:4525 Oak St\, Kansas City\, MO\, 64111\, United States
ATTACH;FMTTYPE=image/jpeg:http://mail.pilates1901.com/wp-content/uploads/2015/04/Pilates-in-the-Park-June-28.jpg
END:VEVENT
END:VCALENDAR