BEGIN:VCALENDAR
VERSION:2.0
PRODID:-//Pilates 1901 - ECPv4.1.2//NONSGML v1.0//EN
CALSCALE:GREGORIAN
METHOD:PUBLISH
X-WR-CALNAME:Pilates 1901
X-ORIGINAL-URL:http://mail.pilates1901.com
X-WR-CALDESC:Events for Pilates 1901
BEGIN:VEVENT
DTSTART;TZID=America/Chicago:20150213T173000
DTEND;TZID=America/Chicago:20150213T190000
DTSTAMP:20260420T080527
CREATED:20150108T102942
LAST-MODIFIED:20150108T103715
UID:16008-1423848600-1423854000@mail.pilates1901.com
SUMMARY:Friday FUN(k) Day- Zumba Pop Up and Day 22 Planning Session
DESCRIPTION:Join your teammates for a Friday evening Happy Hour workout that will make you smile as much as you sweat!\n\nLed by Pilates 1901 Diva Miriam Feingold\, we'll bust a move together with our team mates!\n\nTeam Meetings follow to help you with your Aprez Detox Day 22 Plan!
URL:http://mail.pilates1901.com/event/friday-funk-day-zumba-pop-day-22-planning-session/
LOCATION:1901 W 43rd Ave\, Kansas City\, KS\, 66103\, United States
ATTACH;FMTTYPE=image/jpeg:http://mail.pilates1901.com/wp-content/uploads/2013/06/zumba-party-shake.jpg
END:VEVENT
END:VCALENDAR