BEGIN:VCALENDAR
VERSION:2.0
PRODID:-//Pilates 1901 - ECPv4.1.2//NONSGML v1.0//EN
CALSCALE:GREGORIAN
METHOD:PUBLISH
X-WR-CALNAME:Pilates 1901
X-ORIGINAL-URL:http://mail.pilates1901.com
X-WR-CALDESC:Events for Pilates 1901
BEGIN:VEVENT
DTSTART;TZID=America/Chicago:20150227T173000
DTEND;TZID=America/Chicago:20150227T190000
DTSTAMP:20260420T062200
CREATED:20150108T104144
LAST-MODIFIED:20150108T104347
UID:16010-1425058200-1425063600@mail.pilates1901.com
SUMMARY:Friday FUNday- Exercise as a Ritual
DESCRIPTION:Join Tina Sprinkle and Team LIME Coach Tamie Rising for a Friday Night Happy Hour workout and lecture designed to help you see past the word HABIT and create a personal exercise RITUAL that motivates and sustains your healthy T School progress!
URL:http://mail.pilates1901.com/event/friday-funday-exercise-ritual/
LOCATION:1901 W 43rd Ave\, Kansas City\, KS\, 66103\, United States
ATTACH;FMTTYPE=image/jpeg:http://mail.pilates1901.com/wp-content/uploads/2015/01/See-exercise-as-your-daily-ritual.jpg
END:VEVENT
END:VCALENDAR