BEGIN:VCALENDAR
VERSION:2.0
PRODID:-//Pilates 1901 - ECPv4.1.2//NONSGML v1.0//EN
CALSCALE:GREGORIAN
METHOD:PUBLISH
X-WR-CALNAME:Pilates 1901
X-ORIGINAL-URL:http://mail.pilates1901.com
X-WR-CALDESC:Events for Pilates 1901
BEGIN:VEVENT
DTSTART;TZID=America/Chicago:20150912T113000
DTEND;TZID=America/Chicago:20150912T123000
DTSTAMP:20260420T062626
CREATED:20150728T160715
LAST-MODIFIED:20150822T222235
UID:16911-1442057400-1442061000@mail.pilates1901.com
SUMMARY:FREE T School Workshop   Sugar\, Stress & Hormones
DESCRIPTION:Come and learn why\, despite your best efforts\, you may be sabotaging your own fat loss goals.  Our bodies change year to year and our ability to lose and maintain weight loss is influenced by a complex combinations of lifestyle choices and hormones.\n\nJoin Tina and Dr Alicia Johnson on Saturday\, September 12th as they explain the relationship between Sugar\, Stress\, Lifestyle choices and your hormones in determining weight loss sabotage or success!\n\nClick here to learn more about the Fall Session of T School!
URL:http://mail.pilates1901.com/event/free-t-school-workshop-sugar-stress-hormones/
LOCATION:1901 W 43rd Ave\, Kansas City\, KS\, 66103\, United States
ATTACH;FMTTYPE=image/jpeg:http://mail.pilates1901.com/wp-content/uploads/2015/08/SUGAR-STRESS-AND-HORMONES-WORKSHOP.jpg
END:VEVENT
END:VCALENDAR