BEGIN:VCALENDAR
VERSION:2.0
PRODID:-//Pilates 1901 - ECPv4.1.2//NONSGML v1.0//EN
CALSCALE:GREGORIAN
METHOD:PUBLISH
X-WR-CALNAME:Pilates 1901
X-ORIGINAL-URL:http://mail.pilates1901.com
X-WR-CALDESC:Events for Pilates 1901
BEGIN:VEVENT
DTSTART;TZID=America/Chicago:20160718T183000
DTEND;TZID=America/Chicago:20160718T200000
DTSTAMP:20260419T200241
CREATED:20160701T184823
LAST-MODIFIED:20160713T190540
UID:18206-1468866600-1468872000@mail.pilates1901.com
SUMMARY:Evolve Paleo Clean 21 Cooking Class
DESCRIPTION:Join Chef Caleb Summers at the Evolve Paleo Kitchen in Lenexa.  \n\nAll Juices and Salad Selections are CLEAN 21 approved to give you great tasting ideas for your CLEAN 21 Jumpstart!\n\nReservations Required and we need a MIN of 10 registrants by Sunday\, July 17th to run the cooking class.\n\nIT'S TOTALLY WORTH IT!  SIGN UP NOW!  \n\n$25 per person.   Click here to purchase NOW.
URL:http://mail.pilates1901.com/event/evolve-paleo-clean-21-cooking-class/
LOCATION:8428 Melrose Drive\, Lenexa\, KS\, 66214\, United States
ATTACH;FMTTYPE=image/jpeg:http://mail.pilates1901.com/wp-content/uploads/2015/08/Caleb-tribe.jpg
END:VEVENT
END:VCALENDAR