BEGIN:VCALENDAR
VERSION:2.0
PRODID:-//Pilates 1901 - ECPv4.1.2//NONSGML v1.0//EN
CALSCALE:GREGORIAN
METHOD:PUBLISH
X-WR-CALNAME:Pilates 1901
X-ORIGINAL-URL:http://mail.pilates1901.com
X-WR-CALDESC:Events for Pilates 1901
BEGIN:VEVENT
DTSTART;TZID=America/Chicago:20160226T173000
DTEND;TZID=America/Chicago:20160226T190000
DTSTAMP:20260419T233307
CREATED:20160208T195724
LAST-MODIFIED:20160221T150005
UID:17863-1456507800-1456513200@mail.pilates1901.com
SUMMARY:Dinner and a Movie at Pilates 1901
DESCRIPTION:Join your friends from the studio (or come and make some new friends) as we enjoy an evening Potluck and inspirational movie\, " That Sugar Film."\n\n[embed]https://www.youtube.com/watch?v=6uaWekLrilY[/embed]\n\nThis event is completely FREE and open to everyone who would like to join us.   This is just our way of keeping our focus on healthy choices via a fun and entertaining evening.\n\nQuestions?  Email us today!
URL:http://mail.pilates1901.com/event/dinner-and-a-movie-at-pilates-1901/
LOCATION:1901 W 43rd Ave\, Kansas City\, KS\, 66103\, United States
ATTACH;FMTTYPE=image/jpeg:http://mail.pilates1901.com/wp-content/uploads/2016/02/Dinner-and-a-Movie.jpg
END:VEVENT
END:VCALENDAR