BEGIN:VCALENDAR
VERSION:2.0
PRODID:-//Pilates 1901 - ECPv4.1.2//NONSGML v1.0//EN
CALSCALE:GREGORIAN
METHOD:PUBLISH
X-WR-CALNAME:Pilates 1901
X-ORIGINAL-URL:http://mail.pilates1901.com
X-WR-CALDESC:Events for Pilates 1901
BEGIN:VEVENT
DTSTART;TZID=America/Chicago:20141011T113000
DTEND;TZID=America/Chicago:20141011T123000
DTSTAMP:20260420T112510
CREATED:20140803T170727
LAST-MODIFIED:20140803T170727
UID:15022-1413027000-1413030600@mail.pilates1901.com
SUMMARY:After 21 Day Sugar Detox : Strategic Planning Session
DESCRIPTION:Join Tina and your T School Team Coaches as we celebrate your 21 Day Sugar Detox and set the plan for your next phase of nutritional fitness!   Team meetings follow.
URL:http://mail.pilates1901.com/event/21-day-sugar-detox-strategic-planning-session/
LOCATION:1901 W 43rd Ave\, Kansas City\, KS\, 66103\, United States
ATTACH;FMTTYPE=image/gif:http://mail.pilates1901.com/wp-content/uploads/2014/01/21-DAY.gif
END:VEVENT
END:VCALENDAR